View In:
ArcGIS JavaScript
ArcGIS Online Map Viewer
ArcGIS Earth
Service Description: Image_TRFK/NyUstjåveg_PNG
Name: Image_TRFK/NyUstjåveg_PNG
Description:
Single Fused Map Cache: false
Extent:
XMin: 238212.13779743237
YMin: 7027181.845378712
XMax: 241818.08788464274
YMax: 7029711.205955267
Spatial Reference: 25833
(25833)
LatestVCSWkid(0)
Initial Extent:
XMin: 238212.13779743237
YMin: 7027181.845378712
XMax: 241818.08788464274
YMax: 7029711.205955267
Spatial Reference: 25833
(25833)
LatestVCSWkid(0)
Full Extent:
XMin: 238212.13779743237
YMin: 7027181.845378712
XMax: 241818.08788464274
YMax: 7029711.205955267
Spatial Reference: 25833
(25833)
LatestVCSWkid(0)
Pixel Size X: 2.006650020706938
Pixel Size Y: 2.1508168167985824
Band Count: 4
Pixel Type: U8
RasterFunction Infos: {"rasterFunctionInfos": [{
"name": "None",
"description": "",
"help": ""
}]}
Mensuration Capabilities: Basic
Inspection Capabilities:
Has Histograms: true
Has Colormap: false
Has Multi Dimensions : false
Rendering Rule:
Min Scale: 0
Max Scale: 0
Copyright Text:
Service Data Type: esriImageServiceDataTypeGeneric
Min Values: 0, 0, 0, 255
Max Values: 255, 255, 255, 255
Mean Values: 199.77810949089, 189.97144996005, 200.26375686613, 255
Standard Deviation Values: 56.946067441688, 64.578527091387, 60.853653897986, 0
Object ID Field:
Fields:
None
Default Mosaic Method: Center
Allowed Mosaic Methods:
SortField:
SortValue: null
Mosaic Operator: First
Default Compression Quality: 75
Default Resampling Method: Bilinear
Max Record Count: null
Max Image Height: 4100
Max Image Width: 15000
Max Download Image Count: null
Max Mosaic Image Count: null
Allow Raster Function: true
Allow Copy: true
Allow Analysis: true
Allow Compute TiePoints: false
Supports Statistics: false
Supports Advanced Queries: false
Use StandardizedQueries: true
Raster Type Infos:
Name: Raster Dataset
Description: Supports all ArcGIS Raster Datasets
Help:
Has Raster Attribute Table: false
Edit Fields Info: null
Ownership Based AccessControl For Rasters: null
Child Resources:
Info
Histograms
Statistics
Key Properties
Legend
Raster Function Infos
Supported Operations:
Export Image
Identify
Measure
Compute Histograms
Compute Statistics Histograms
Get Samples
Compute Class Statistics
Query Boundary
Compute Pixel Location
Compute Angles
Validate
Project